Workbook

Sheet Лист1
A1: Обект: Основен ремонт на съществуваща обществена сграда Народно Читалище "Отец Паисий-1897" в УПИ II кв.27 по плана на село Спасово, Община Генерал Тошево.
A5: КОЛИЧЕСТВЕНО СТОЙНОСТНА СМЕТКА
A7: № | B7: Вид СМР | C7: мярка | D7: Количество | E7: ед.цена | F7: обща стойност
B8: Част архитектурна
B9: I.Вътрешни СМР
B10: Демонтажни и подготвителни дейности
A11: 1 | B11: Демонтаж врати, включително каса | C11: бр | D11: ='[1]Обобщение вътрешни'!AJ12 -> 30
A12: 2 | B12: Почистване повърхности от стари компрометирали бои и мазилки | C12: м2 | D12: ='[1]Обобщение вътрешни'!AJ13 -> 1069.13
B13: СМР
A14: 3 | B14: Доставка и монтаж на нови интериорни врати PVC (съгласно спецификация) | C14: м2 | D14: ='[1]Обобщение вътрешни'!AJ17 -> 67.94
A15: 4 | B15: Обръщане отвори с гипсокартон на лепило, вкл.ъглови лайсни | C15: м | D15: ='[1]Обобщение вътрешни'!AJ18 -> 420.84
A16: 5 | B16: Изкърпване мазилка по стени и тавани | C16: м2 | D16: ='[1]Обобщение вътрешни'!AJ19 -> 58.73
A17: 6 | B17: Гипсова шпахловка по стени и тавани | C17: м2 | D17: ='[1]Обобщение вътрешни'!AJ20 -> 537.13
A18: 7 | B18: Латекс по стени и тавани две ръце, вкл.грунд | C18: м2 | D18: ='[1]Обобщение вътрешни'!AJ21 -> 990.67
A19: 8 | B19: Почистване и полиране на мозаечна настилка | C19: м2 | D19: ='[1]Обобщение вътрешни'!AJ22 -> 183.39
A20: 9 | B20: Пренареждане/ремонт паркет (вкл.до 5% нов), циклене, лакиране | C20: м2 | D20: ='[1]Обобщение вътрешни'!AJ23 -> 269.48
A21: 10 | B21: Окачен таван Амстронг | C21: м2 | D21: ='[1]Обобщение вътрешни'!AJ24 -> 264.67
B22: Други
A23: 11 | B23: Демонтаж дървена дограма | C23: м2 | D23: ='[1]Обобщение вътрешни'!AJ27 -> 10.33
A24: 12 | B24: Доставка и монтаж нова PVC дограма | C24: м2 | D24: ='[1]Обобщение вътрешни'!AJ28 -> 10.33
A25: 13 | B25: Блажна боя | C25: м2 | D25: ='[1]Обобщение вътрешни'!AJ30 -> 82.34
A26: 14 | B26: Настилка ламинат | C26: м2 | D26: ='[1]Обобщение вътрешни'!AJ31 -> 26.11
A27: 15 | B27: Первази ламинат | C27: м | D27: ='[1]Обобщение вътрешни'!AJ32 -> 29.2
A28: 16 | B28: Вътрешни подпрозоречни дъски | C28: м | D28: ='[1]Обобщение вътрешни'!AJ33 -> 0.8
A29: 17 | B29: Доставка и монтаж на подвижна ръкохватка WC във връзка с достъп среда | C29: бр | D29: ='[1]Обобщение вътрешни'!AJ34 -> 1
A30: 18 | B30: Зазиждане отвор с Итонг | C30: м3 | D30: ='[1]Обобщение вътрешни'!AJ35 -> 2.07
A31: 19 | B31: Настилка екстериорен гранитогрес вкл.челна лайсна | C31: м2 | D31: ='[1]Обобщение вътрешни'!AJ36 -> 4.09
A32: 20 | B32: Преходна лайсна | C32: м | D32: ='[1]Обобщение вътрешни'!AJ37 -> 14.25
B33: II.Зрителна зала, сцена и входно помещение
B34: Зала зрители (помещение 23)
B35: Демонтажни и подготвителни работи
A36: 1 | B36: Демонтаж седалки, пренос до временен склад в рамките на обекта | C36: бр | D36: =[1]Зала!I17 -> 294
A37: 2 | B37: Демонтаж облицовка от плоскости ПДЧ | C37: м2 | D37: =[1]Зала!I32 -> 136.97
A38: 3 | B38: Монтаж и демонтаж на интериорно скеле | C38: м3 | D38: 520
A39: 4 | B39: Доставка и монтаж на облицовка пожароустойчив гипсокартон на конструкция | C39: м2 | D39: =[1]Зала!I51 -> 136.97
A40: 5 | B40: Обръщане отвори с пожароустойчив гипсокартон на лепило, вкл.ъглови лайсни | C40: м | D40: =[1]Зала!I64 -> 89.6
A41: 6 | B41: Изграждане куфар от пожароустойчив гипсокартон за закриване на ОВК инсталация | C41: м2 | D41: =[1]Зала!I66 -> 19
A42: 7 | B42: Инсталационни решетки бели пластмасови с обща площ | C42: м2 | D42: =[1]Зала!I71 -> 3
A43: 8 | B43: Изкърпване мазилка по стени и тавани | C43: м2 | D43: =[1]Зала!I74 -> 16.52
A44: 9 | B44: Гипсова шпахловка | C44: м2 | D44: =[1]Зала!I81 -> 495.28
...

Sheet Лист2

Sheet Лист3
