Workbook

Sheet Лист1
A1: Обект: Основен ремонт на съществуваща обществена сграда Народно Читалище "Отец Паисий-1897" в УПИ II кв.27 по плана на село Спасово, Община Генерал Тошево.
A5: КОЛИЧЕСТВЕНО СТОЙНОСТНА СМЕТКА
A7: № | B7: Вид СМР | C7: мярка | D7: Количество | E7: ед.цена | F7: обща стойност
B8: Част архитектурна
B9: I.Вътрешни СМР
B10: Демонтажни и подготвителни дейности
A11: 1 | B11: Демонтаж врати, включително каса | C11: бр | D11: ='[1]Обобщение вътрешни'!AJ12 -> 30
A12: 2 | B12: Почистване повърхности от стари компрометирали бои и мазилки | C12: м2 | D12: ='[1]Обобщение вътрешни'!AJ13 -> 1069.13
B13: СМР
A14: 3 | B14: Доставка и монтаж на нови интериорни врати PVC (съгласно спецификация) | C14: м2 | D14: ='[1]Обобщение вътрешни'!AJ17 -> 67.94
A15: 4 | B15: Обръщане отвори с гипсокартон на лепило, вкл.ъглови лайсни | C15: м | D15: ='[1]Обобщение вътрешни'!AJ18 -> 420.84
A16: 5 | B16: Изкърпване мазилка по стени и тавани | C16: м2 | D16: ='[1]Обобщение вътрешни'!AJ19 -> 58.73
A17: 6 | B17: Гипсова шпахловка по стени и тавани | C17: м2 | D17: ='[1]Обобщение вътрешни'!AJ20 -> 537.13
A18: 7 | B18: Латекс по стени и тавани две ръце, вкл.грунд | C18: м2 | D18: ='[1]Обобщение вътрешни'!AJ21 -> 990.67
A19: 8 | B19: Почистване и полиране на мозаечна настилка | C19: м2 | D19: ='[1]Обобщение вътрешни'!AJ22 -> 183.39
A20: 9 | B20: Пренареждане/ремонт паркет (вкл.до 5% нов), циклене, лакиране | C20: м2 | D20: ='[1]Обобщение вътрешни'!AJ23 -> 269.48
A21: 10 | B21: Окачен таван Амстронг | C21: м2 | D21: ='[1]Обобщение вътрешни'!AJ24 -> 264.67
B22: Други
A23: 11 | B23: Демонтаж дървена дограма | C23: м2 | D23: ='[1]Обобщение вътрешни'!AJ27 -> 10.33
A24: 12 | B24: Доставка и монтаж нова PVC дограма | C24: м2 | D24: ='[1]Обобщение вътрешни'!AJ28 -> 10.33
A25: 13 | B25: Блажна боя | C25: м2 | D25: ='[1]Обобщение вътрешни'!AJ30 -> 82.34
A26: 14 | B26: Настилка ламинат | C26: м2 | D26: ='[1]Обобщение вътрешни'!AJ31 -> 26.11
A27: 15 | B27: Первази ламинат | C27: м | D27: ='[1]Обобщение вътрешни'!AJ32 -> 29.2
A28: 16 | B28: Вътрешни подпрозоречни дъски | C28: м | D28: ='[1]Обобщение вътрешни'!AJ33 -> 0.8
A29: 17 | B29: Доставка и монтаж на подвижна ръкохватка WC във връзка с достъп среда | C29: бр | D29: ='[1]Обобщение вътрешни'!AJ34 -> 1
A30: 18 | B30: Зазиждане отвор с Итонг | C30: м3 | D30: ='[1]Обобщение вътрешни'!AJ35 -> 2.07
A31: 19 | B31: Настилка екстериорен гранитогрес вкл.челна лайсна | C31: м2 | D31: ='[1]Обобщение вътрешни'!AJ36 -> 4.09
A32: 20 | B32: Преходна лайсна | C32: м | D32: ='[1]Обобщение вътрешни'!AJ37 -> 14.25
B33: II.Зрителна зала, сцена и входно помещение
B34: Зала зрители (помещение 23)
B35: Демонтажни и подготвителни работи
A36: 1 | B36: Демонтаж седалки, пренос до временен склад в рамките на обекта | C36: бр | D36: =[1]Зала!I17 -> 294
A37: 2 | B37: Демонтаж облицовка от плоскости ПДЧ | C37: м2 | D37: =[1]Зала!I32 -> 136.97
A38: 3 | B38: Монтаж и демонтаж на интериорно скеле | C38: м3 | D38: 520
A39: 4 | B39: Доставка и монтаж на облицовка пожароустойчив гипсокартон на конструкция | C39: м2 | D39: =[1]Зала!I51 -> 136.97
A40: 5 | B40: Обръщане отвори с пожароустойчив гипсокартон на лепило, вкл.ъглови лайсни | C40: м | D40: =[1]Зала!I64 -> 89.6
A41: 6 | B41: Изграждане куфар от пожароустойчив гипсокартон за закриване на ОВК инсталация | C41: м2 | D41: =[1]Зала!I66 -> 19
A42: 7 | B42: Инсталационни решетки бели пластмасови с обща площ | C42: м2 | D42: =[1]Зала!I71 -> 3
A43: 8 | B43: Изкърпване мазилка по стени и тавани | C43: м2 | D43: =[1]Зала!I74 -> 16.52
A44: 9 | B44: Гипсова шпахловка | C44: м2 | D44: =[1]Зала!I81 -> 495.28
A45: 10 | B45: Латекс по стени и тавани (бял) | C45: м2 | D45: =[1]Зала!I86 -> 324.14
A46: 11 | B46: Латекс по стени и тавани цветен | C46: м2 | D46: =[1]Зала!I89 -> 171.14
A47: 12 | B47: Лакиране на дървена облицовка с негорим лак | C47: м2 | D47: =[1]Зала!I99 -> 76.09
A48: 13 | B48: Демонтаж ъглови первази | C48: м | D48: =[1]Зала!I106 -> 79.4
A49: 14 | B49: Монтаж нови ъглови первази | C49: м | D49: =[1]Зала!I109 -> 79.4
A50: 15 | B50: Пренареждане/ремонт паркет (вкл.до 5% нов), циклене, лакиране с негорим лак | C50: м2 | D50: =[1]Зала!I114 -> 197.03
A51: 16 | B51: Доставка и монтаж тапицирани столове за зала, негорима дамазка и подлакътници | C51: бр | D51: =[1]Зала!I119 -> 294
B52: Сцена и задкулисие (помещение 24)
A53: 17 | B53: Демонтаж дървени стълбички към сцена | C53: бр | D53: =[1]Зала!I124 -> 2
A54: 18 | B54: Изграждане на дървена стълбичка към сцена h=80см | C54: бр | D54: =[1]Зала!I126 -> 2
A55: 19 | B55: Демонтаж дървени панели от челото на сцената | C55: м2 | D55: =[1]Зала!I128 -> 6.55
A56: 20 | B56: Изграждане на дървена конструкция за удължаване на сцената (обем на готовата конструкция) | C56: м3 | D56: =[1]Зала!I130 -> 1.5
A57: 21 | B57: Доставка и монтаж ново дюшаме 4.5см вкл. Циклене и лакиране | C57: м2 | D57: 121
A58: 22 | B58: Доставка и монтаж декоративна дървена решетка на чело на сцената (за ОВК инсталация) | C58: м2 | D58: =[1]Зала!I134 -> 3
A59: 23 | B59: Доставка и монтаж на нови панели за чело на сцената и новата част | C59: м2 | D59: =[1]Зала!I139 -> 6.5
A60: 24 | B60: Демонтаж старо дюшаме | C60: м2 | D60: 119
A61: 25 | B61: Монтаж нови ъглови первази | C61: м | D61: =[1]Зала!I144 -> 40
A62: 26 | B62: Затваряне покривна конструкция с пожароустойчив гипсокарто на конструкция | C62: м2 | D62: =[1]Зала!I162 -> 165.67
A63: 27 | B63: Демонтаж интериорна врата (заковани дървесни панели) | C63: бр | D63: =[1]Зала!I164 -> 1
A64: 28 | B64: Доставка и монтаж интериорна врата PVC | C64: м2 | D64: =[1]Зала!I167 -> 4.68
A65: 29 | B65: Обръщане отвори с гипсокартон на лепило, вкл.ъглови лайсни | C65: м | D65: =[1]Зала!I174 -> 12.35
A66: 30 | B66: Мазилка по стени и тавани | C66: м2 | D66: =[1]Зала!I177 -> 20.3
A67: 31 | B67: Гипсова шпахловка по стени и тавани | C67: м2 | D67: =[1]Зала!I183 -> 572.86
A68: 32 | B68: Латекс по стени и тавани | C68: м2 | D68: =[1]Зала!I186 -> 572.86
B69: Входно помещение и техническо помещение (помещение 25)
A70: 33 | B70: Изграждане на подови и тавански конструкции съгласно проект част Конструктивна | C70: м3 | D70: 2.8
A71: 34 | B71: Доставка и полагане на бетон клас В20 за 10 см. армирана бетонова настилка | C71: м2 | D71: =[1]Зала!I194 -> 28.1
A72: 35 | B72: Изработка и монтаж армировка | C72: кг | D72: 180
A73: 36 | B73: Изравнителна циментова замазка | C73: м2 | D73: 28.1
A74: 37 | B74: Почистване повърхности от стари компрометирани бои и мазилки | C74: м2 | D74: 25
A75: 38 | B75: Мазилка по стени | C75: м2 | D75: =[1]Зала!I213 -> 10.55
A76: 39 | B76: Гипсова шпахловка по стени и тавани | C76: м2 | D76: =[1]Зала!I218 -> 131.56
A77: 40 | B77: Латекс по стени и тавани | C77: м2 | D77: =[1]Зала!I221 -> 131.56
A78: 41 | B78: Доставка и монтаж на окачен таван Армстронг | C78: м2 | D78: =[1]Зала!I223 -> 28.1
A79: 42 | B79: Настилка от ламиниран паркет 10 мм клас 32/АС4 | C79: м2 | D79: =[1]Зала!I225 -> 28.1
A80: 43 | B80: Преходни лайсни | C80: м | D80: =[1]Зала!I231 -> 4.4
A81: 44 | B81: ПВЦ первази за ламинат | C81: м | D81: 30.32
A82: 45 | B82: Доставка и монтаж преградна стена от гипсокартон на метална конструкция и пълнеж от минерална вата | C82: м2 | D82: =[2]Зала!I208 -> 10.2
B83: III.Покрив
B84: Покрив библиотека, административна част, зала, сцена
A85: 1 | B85: Сваляне и сортиране на керемиди Мизия | C85: м2 | D85: =[1]Покрив!H23 -> 883.76
A86: 2 | B86: Демонтаж ламаринена обшивка улами, комини | C86: м | D86: =[1]Покрив!H31 -> 70.3
A87: 3 | B87: Демонтаж и сваляне покривни слоеве (дъсчена обшивка, скара, рогозки, пълнеж, шпахловки) | C87: м3 | D87: =[1]Покрив!H34 -> 176.75
A88: 4 | B88: Демонтаж покривна конструкция | C88: м3 | D88: =[1]Покрив!H36 -> 10
A89: 5 | B89: Демонтаж надстройка стълбище | C89: м3 | D89: =[1]Покрив!H42 -> 9.04
A90: 6 | B90: Ремонт гредоред подпокривно пространство | C90: м2 | D90: =[1]Покрив!H48 -> 31.616
A91: 7 | B91: Монтаж нова покривна конструкция съгласно проект част Конструктивна | C91: м3 | D91: 22.38
A92: 8 | B92: Измазване комини и борд (част над покривната конструкция) | C92: м2 | D92: =[1]Покрив!H56 -> 18.3
A93: 9 | B93: Монтаж обшивка OSB 12мм | C93: м2 | D93: =[1]Покрив!H59 -> 883.76
A94: 10 | B94: Доставка и монтаж на керемиди вкл. усилена трислойна подкеремидна мембрана и летви | C94: м2 | D94: 520
A95: 11 | B95: Покриване със стари налични керемиди вкл.усилена трислойна подкеремидна мембрана и летви | C95: м2 | D95: 363.76
A96: 12 | B96: Доставка и монтаж на билни елементи | C96: м | D96: 86.14
A97: 13 | B97: Oбшивка комини от поцинковона ламарина 0,5мм. | C97: м2 | D97: 34
A98: 14 | B98: Обшивка на улами и калкан с поц.ламарина 0,5мм | C98: м2 | D98: 60
A99: 15 | B99: Доставка и монтаж челна дъска | C99: м | D99: =[1]Покрив!H80 -> 123.7
B100: Покрив пристройка към сцена
A101: 1 | B101: Разрушаване пропаднала конструкция и слоеве, пропаднал гредоред и др. отпадъци | C101: м3 | D101: =[1]Покрив!H101 -> 20.46
A102: 2 | B102: Изграждане на нова покривна конструкция съгласно проект част Конструктивна | C102: м3 | D102: 2.4
A103: 3 | B103: Монтаж обшивка OSB 12мм | C103: м2 | D103: =[1]Покрив!H108 -> 49.18
A104: 4 | B104: Покриване със стари налични керемиди вкл.усилена трислойна подкеремидна мембрана и летви | C104: м2 | D104: =[1]Покрив!H111 -> 49.18
...

Sheet Лист2

Sheet Лист3
